BEGIN:VCALENDAR
VERSION:2.0
PRODID:-//eventon.com NONSGML v1.0//EN
CALSCALE:GREGORIAN
METHOD:PUBLISH
BEGIN:VEVENT
UID:69e7515473d82
DTSTAMP:20260421T102836Z
DTSTART:20200530T103000Z
DTEND:20200530T235000Z
LOCATION:Online | Zoom
SUMMARY:VIRTUAL | NSDA ONLINE SUPPORT SESSIONS
DESCRIPTION:REGISTER HERE  During this time of social distancing\,  the Na
 tional Spasmodic Dysphonia Association is hosting virtual support sessions 
 to share experiences about living with spasmodic dysphonia and related voic
 e conditions. Meet others who understand the challenges of living with a vo
 ice disorder. Discover a community that cares about your voice![..]\nhttps:
 //dysphonia.org/events/virtual-nsda-online-support-sessions-copy/
URL:https://dysphonia.org/events/virtual-nsda-online-support-sessions-copy/
END:VEVENT
END:VCALENDAR