BEGIN:VCALENDAR
VERSION:2.0
PRODID:-//eventon.com NONSGML v1.0//EN
CALSCALE:GREGORIAN
METHOD:PUBLISH
BEGIN:VEVENT
UID:69e752f1397fa
DTSTAMP:20260421T103529Z
DTSTART:20200425T110000Z
DTEND:20200425T120000Z
LOCATION:
SUMMARY:NSDA Virtual Support Session
DESCRIPTION:REGISTER HERE During this time of social distancing\,  the Nati
 onal Spasmodic Dysphonia Association is hosting virtual support sessions to
  share experiences about living with spasmodic dysphonia and related voice 
 conditions. Meet others who understand the challenges of living with a voic
 e disorder. Discover a community that cares about your voice![..]\nhttps://
 dysphonia.org/events/nsda-virtual-support-session-3/
URL:https://dysphonia.org/events/nsda-virtual-support-session-3/
END:VEVENT
END:VCALENDAR