BEGIN:VCALENDAR
VERSION:2.0
PRODID:-//eventon.com NONSGML v1.0//EN
CALSCALE:GREGORIAN
METHOD:PUBLISH
BEGIN:VEVENT
UID:69e8ecb83cb19
DTSTAMP:20260422T154352Z
DTSTART:20200315T150000Z
DTEND:20200315T170000Z
LOCATION:Kaiser Medical Center 2025 Morse Avenue  (Conf. Room 2) | Sacramento\,  CA 95825
SUMMARY:CANCELLED: Sacramento Valley SD Support Group Meeting
DESCRIPTION:Dear SD Friends\,  I&#8217;m so sorry for the short notice and 
 any inconvenience\,  but due to the few number of expected attendees and ca
 utious concern for the COVID19 (coronavirus)\,  our SD support group meetin
 g will be canceled for tomorrow\,  Sunday\,  3/15/20. For those of you who 
 did not receive the[..]\nhttps://dysphonia.org/events/sacramento-valley-sd-
 support-group-meeting/
URL:https://dysphonia.org/events/sacramento-valley-sd-support-group-meeting/
END:VEVENT
END:VCALENDAR