BEGIN:VCALENDAR
VERSION:2.0
PRODID:-//eventon.com NONSGML v1.0//EN
CALSCALE:GREGORIAN
METHOD:PUBLISH
BEGIN:VEVENT
UID:69e73f5d17366
DTSTAMP:20260421T091157Z
DTSTART:20200328T140000Z
DTEND:20200328T170000Z
LOCATION:The Home of Patrick and Mary Bifaro 3524 Oxbow Court | Matthews\,  NC 28105
SUMMARY:POSTPONED: Charlotte\,  NC - 7th Annual Walk-A-Thon & Cookout to Benefit the NSDA
DESCRIPTION:After monitoring and evaluating the evolving situation around t
 he Coronavirus (COVID-19) outbreak\,  my husband\,  Patty\,  and I have ma
 de the difficult decision to postpone the 7th Annual Walk &amp; Cookout/N
 SDA Fundraiser until the fall (possibly in September). The health and well
 -being of our SD members and their friends and families are our primary con
 cern. We[..]\nhttps://dysphonia.org/events/2020-charlotte-walk/
URL:https://dysphonia.org/events/2020-charlotte-walk/
END:VEVENT
END:VCALENDAR