BEGIN:VCALENDAR
VERSION:2.0
PRODID:-//eventon.com NONSGML v1.0//EN
CALSCALE:GREGORIAN
METHOD:PUBLISH
BEGIN:VEVENT
UID:69e85408c7b5e
DTSTAMP:20260422T045224Z
DTSTART:20200213T190000Z
DTEND:20200213T210000Z
LOCATION:CEENTA (Charlotte Eye Ear Nose &amp; Throat Associates) 6035 Fairview Road | Second Floor Conference Room | Charlotte\,  NC 28210
SUMMARY:The SD Support Group of Charlotte\,  NC
DESCRIPTION:Our group provides a comfortable place to talk. You will hear h
 ow people cope\,  gain new information\,  and establish contacts. Discussio
 ns can be informative for the newly diagnosed as well as those who have bee
 n dealing with spasmodic dysphonia for many years. Those with other voice d
 isorders and family and[..]\nhttps://dysphonia.org/events/the-sd-support-gr
 oup-of-charlotte-nc/
URL:https://dysphonia.org/events/the-sd-support-group-of-charlotte-nc/
END:VEVENT
END:VCALENDAR