BEGIN:VCALENDAR
VERSION:2.0
PRODID:-//eventon.com NONSGML v1.0//EN
CALSCALE:GREGORIAN
METHOD:PUBLISH
BEGIN:VEVENT
UID:69e52a49ac200
DTSTAMP:20260419T191729Z
DTSTART:20200208T100000Z
DTEND:20200208T235000Z
LOCATION:Phoenixville Hospital 826 Main Street | Board Room\,  Medical Office Building 2\,  3rd Floor |  Phoenixville\,  PA  19460
SUMMARY:Southeastern PA Spasmodic Dysphonia Support Group
DESCRIPTION:Do you have Spasmodic Dysphonia and are you looking for the mis
 sing pieces of the puzzle? Do you have unanswered questions? Do you ever fe
 el that YOU are the only one? Are you interested in keeping up with the lat
 est in treatment and research? Southeastern PA Spasmodic Dysphonia (SD) Sup
 port[..]\nhttps://dysphonia.org/events/southeastern-pa-spasmodic-dysphonia-
 support-group/
URL:https://dysphonia.org/events/southeastern-pa-spasmodic-dysphonia-support-group/
END:VEVENT
END:VCALENDAR