BEGIN:VCALENDAR
VERSION:2.0
PRODID:-//eventon.com NONSGML v1.0//EN
CALSCALE:GREGORIAN
METHOD:PUBLISH
BEGIN:VEVENT
UID:69e8a8273401d
DTSTAMP:20260422T105119Z
DTSTART:20200111T100000Z
DTEND:20200111T120000Z
LOCATION:Keck Medicine of USC 9033 Wilshire Boulevard | 5th Floor | Beverly Hills\,  CA  90211
SUMMARY:LA Support Group Meeting
DESCRIPTION:LA Support Group Presents: Treatment of Spasmodic Dysphonia: Re
 search Updates Presented by Michael Johns\,  MD Director of the USC Voice C
 enter The NSDA\,  in collaboration with the USC Voice Center\,  welcomes Dr
 . Michael Johns who will give an updates on latest research on the treatmen
 t of spasmodic dysphonia. SATURDAY\,  JANUARY[..]\nhttps://dysphonia.org/ev
 ents/la-support-group-meeting/
URL:https://dysphonia.org/events/la-support-group-meeting/
END:VEVENT
END:VCALENDAR