BEGIN:VCALENDAR
VERSION:2.0
PRODID:-//eventon.com NONSGML v1.0//EN
CALSCALE:GREGORIAN
METHOD:PUBLISH
BEGIN:VEVENT
UID:69e73fbb8bbc9
DTSTAMP:20260421T091331Z
DTSTART:20250918T200000Z
DTEND:20250918T210000Z
LOCATION:www.zoom.us
SUMMARY:Hybrid Meeting
DESCRIPTION:.stk-f52fdcb {margin-bottom:9px !important;}.stk-f52fdcb .stk-b
 lock-text__text{font-size:18px !important;}@media screen and (max-width: 10
 23px){.stk-f52fdcb .stk-block-text__text{font-size:18px !important;}} Pleas
 e join us for a hybrid meeting on Thursday\,  September 18\,  2025\,  from 
 4:00 &#8211; 5:00 PM EDT. .stk-74eaae4 {margin-bottom:21px !important;}.stk
 -74eaae4 .stk-block-text__text{font-size:25px !important;}@media screen and
  (max-width: 1023px){.stk-74eaae4 .stk-block-text__text{font-size:25px !imp
 ortant;}} For in-person attendees: CLICK HERE TO RSVP .stk-875c728 .stk-blo
 ck-text__text{font-size:25px !important;}@media[..]\nhttps://dysphonia.org/
 events/hybrid-meeting/
URL:https://dysphonia.org/events/hybrid-meeting/
END:VEVENT
END:VCALENDAR