BEGIN:VCALENDAR
VERSION:2.0
PRODID:-//eventon.com NONSGML v1.0//EN
CALSCALE:GREGORIAN
METHOD:PUBLISH
BEGIN:VEVENT
UID:69e73e9b980e0
DTSTAMP:20260421T090843Z
DTSTART:20250826T230000Z
DTEND:20250827T000000Z
LOCATION:www.zoom.us
SUMMARY:Virtual Meeting
DESCRIPTION:.stk-f52fdcb {margin-bottom:9px !important;}.stk-f52fdcb .stk-b
 lock-text__text{font-size:18px !important;}@media screen and (max-width: 10
 23px){.stk-f52fdcb .stk-block-text__text{font-size:18px !important;}} Pleas
 e join us for a virtual meeting on Tuesday\,  August 26\,  2025\,  at 7:00 
 PM ET. .stk-74eaae4 {margin-bottom:21px !important;}.stk-74eaae4 .stk-block
 -text__text{font-size:25px !important;}@media screen and (max-width: 1023px
 ){.stk-74eaae4 .stk-block-text__text{font-size:25px !important;}} CLICK HER
 E TO RSVP Hope you will be able to join us[..]\nhttps://dysphonia.org/event
 s/virtual-meeting-12/
URL:https://dysphonia.org/events/virtual-meeting-12/
END:VEVENT
END:VCALENDAR