BEGIN:VCALENDAR
VERSION:2.0
PRODID:-//eventon.com NONSGML v1.0//EN
CALSCALE:GREGORIAN
METHOD:PUBLISH
BEGIN:VEVENT
UID:69ea81d76d894
DTSTAMP:20260423T203223Z
DTSTART:20250128T233000Z
DTEND:20250129T004500Z
LOCATION:www.zoom.us
SUMMARY:Virtual Meeting | Hosted by the Greater New York Dysphonia Support Group
DESCRIPTION:.stk-f52fdcb {margin-bottom:9px !important;}.stk-f52fdcb .stk-b
 lock-text__text{font-size:18px !important;}@media screen and (max-width: 10
 23px){.stk-f52fdcb .stk-block-text__text{font-size:18px !important;}} Pleas
 e join us for a virtual meeting on Tuesday\,  January 28\,  2025\,  from 6:
 30 PM to 7:45 PM EST. .stk-74eaae4 {margin-bottom:21px !important;}.stk-74e
 aae4 .stk-block-text__text{font-size:25px !important;}@media screen and (ma
 x-width: 1023px){.stk-74eaae4 .stk-block-text__text{font-size:25px !importa
 nt;}} CLICK HERE TO REGISTER Please join us for our[..]\nhttps://dysphonia.
 org/events/virtual-meeting-hosted-by-the-greater-new-york-dysphonia-support
 -group-7/
URL:https://dysphonia.org/events/virtual-meeting-hosted-by-the-greater-new-york-dysphonia-support-group-7/
END:VEVENT
END:VCALENDAR