BEGIN:VCALENDAR
VERSION:2.0
PRODID:-//eventon.com NONSGML v1.0//EN
CALSCALE:GREGORIAN
METHOD:PUBLISH
BEGIN:VEVENT
UID:69ed68ab5d75c
DTSTAMP:20260426T012147Z
DTSTART:20241019T173000Z
DTEND:20241019T200000Z
LOCATION:6241 Crescent Park West\,  Playa Vista\,  CA 90094
SUMMARY:5th Annual Walk for Talk Hosted by the Greater Los Angeles Dysphonia Support Group
DESCRIPTION:Join us for our 5th Annual Walk for Talk Event hosted by Dyspho
 nia International and organized by the Greater Los Angeles Dysphonia Suppor
 t Group on Saturday\,  October 19\,  2024\,  from 10:30 AM to 1:00 PM in Pl
 aya Vista\,  CA. LOCATION | 6241 Crescent Park West Playa Vista\,  CA 90094
  CLICK[..]\nhttps://dysphonia.org/events/5th-annual-walk-for-talk-hosted-by
 -the-greater-los-angeles-dysphonia-support-group/
URL:https://dysphonia.org/events/5th-annual-walk-for-talk-hosted-by-the-greater-los-angeles-dysphonia-support-group/
END:VEVENT
END:VCALENDAR