BEGIN:VCALENDAR
VERSION:2.0
PRODID:-//eventon.com NONSGML v1.0//EN
CALSCALE:GREGORIAN
METHOD:PUBLISH
BEGIN:VEVENT
UID:69e6b02110a3b
DTSTAMP:20260420T230049Z
DTSTART:20240518T150000Z
DTEND:20240518T170000Z
LOCATION:www.zoom.us
SUMMARY:In-Person Meeting | Hosted by the Twin Cities Dysphonia Support Group
DESCRIPTION:.stk-f52fdcb{margin-bottom:9px !important}.stk-f52fdcb .stk-blo
 ck-text__text{font-size:18px !important}@media screen and (max-width:1023px
 ){.stk-f52fdcb .stk-block-text__text{font-size:18px !important}} Please joi
 n us for a virtual meeting on Saturday\,  May 18\,  2024\,  from 10:00 &#82
 11; 12:00 PM CT. .stk-74eaae4{margin-bottom:21px !important}.stk-74eaae4 .s
 tk-block-text__text{font-size:25px !important}@media screen and (max-width:
 1023px){.stk-74eaae4 .stk-block-text__text{font-size:25px !important}} CLIC
 K HERE TO RSVP We hope you can join us for our next in-person[..]\nhttps://
 dysphonia.org/events/in-person-meeting-hosted-by-the-twin-cities-dysphonia-
 support-group-2/
URL:https://dysphonia.org/events/in-person-meeting-hosted-by-the-twin-cities-dysphonia-support-group-2/
END:VEVENT
END:VCALENDAR