BEGIN:VCALENDAR
VERSION:2.0
PRODID:-//eventon.com NONSGML v1.0//EN
CALSCALE:GREGORIAN
METHOD:PUBLISH
BEGIN:VEVENT
UID:69e78ebce6a5c
DTSTAMP:20260421T145036Z
DTSTART:20240328T230000Z
DTEND:20240329T035000Z
LOCATION:Online | Zoom
SUMMARY:WEBINAR | Ask the Experts: Q&A Session
DESCRIPTION:CLICK HERE TO REGISTERDate | Thursday\,  March 28\,  2024 Time 
 | 7:00 PM EDT (Please adjust to your time zone accordingly) Join us for an 
 educational webinar on Thursday\,  March 28\,  2024\,  at 7:00 PM EDT\,  pr
 esented by Dysphonia International. Dr. Michael Johns and SLP Lauren Timmon
 s-Sund\,  from the University[..]\nhttps://dysphonia.org/events/webinar-ask
 -the-experts-qa-session/
URL:https://dysphonia.org/events/webinar-ask-the-experts-qa-session/
END:VEVENT
END:VCALENDAR