BEGIN:VCALENDAR
VERSION:2.0
PRODID:-//eventon.com NONSGML v1.0//EN
CALSCALE:GREGORIAN
METHOD:PUBLISH
BEGIN:VEVENT
UID:69e73fed7d565
DTSTAMP:20260421T091421Z
DTSTART:20231209T180000Z
DTEND:20231209T210000Z
LOCATION:Near the Scottsdale Ranch Community | Please email Esther Zack for the event location and directions
SUMMARY:Scottsdale\,  AZ |  In-Person Valley of the Sun Dysphonia Support Group Holiday Event
DESCRIPTION:Please celebrate the holidays with the Valley of the Sun Dyspho
 nia Support Group on Saturday\,  December 9\,  2023\,  from 11:00 AM &#8211
 ; 1:00 PM. RSVP HERE Please join our support group members for this social 
 gathering to celebrate the holidays and bring an appetizer to share. Please
  kindly RSVP to[..]\nhttps://dysphonia.org/events/scottsdale-az-in-person-v
 alley-of-the-sun-dysphonia-support-group-holiday-event/
URL:https://dysphonia.org/events/scottsdale-az-in-person-valley-of-the-sun-dysphonia-support-group-holiday-event/
END:VEVENT
END:VCALENDAR