BEGIN:VCALENDAR
VERSION:2.0
PRODID:-//eventon.com NONSGML v1.0//EN
CALSCALE:GREGORIAN
METHOD:PUBLISH
BEGIN:VEVENT
UID:69eb798a3f5e4
DTSTAMP:20260424T140914Z
DTSTART:20230708T150000Z
DTEND:20230708T180000Z
LOCATION:www.zoom.us
SUMMARY:IN-PERSON MEETING | Hosted by the Southeastern Wisconsin Dysphonia Support Group
DESCRIPTION:EVENT DETAILS Please join the Southeastern Wisconsin Dysphonia 
 Support Group for our next in-person meeting on Saturday\,  July 8\,  2023\
 ,  from 10:00 AM – 1:00 PM CT. Please join the Southeastern Wisconsin Dys
 phonia Support Group at our in-person\,  drop-by event to meet fellow Dysph
 onia International members and others who live[..]\nhttps://dysphonia.org/e
 vents/in-person-hosted-by-the-southeastern-wisconsin-dysphonia-support-grou
 p/
URL:https://dysphonia.org/events/in-person-hosted-by-the-southeastern-wisconsin-dysphonia-support-group/
END:VEVENT
END:VCALENDAR