BEGIN:VCALENDAR
VERSION:2.0
PRODID:-//eventon.com NONSGML v1.0//EN
CALSCALE:GREGORIAN
METHOD:PUBLISH
BEGIN:VEVENT
UID:69e73f630e5a5
DTSTAMP:20260421T091203Z
DTSTART:20221210T190000Z
DTEND:20221210T220000Z
LOCATION:Home of Patrick &amp; Mary Bifaro Matthews\,  NC 28105 | Contact Mary for directions
SUMMARY:In-Person Holiday Open House | Hosted by the Charlotte Dysphonia Support Group
DESCRIPTION:Please join the Charlotte Dysphonia Group for some holiday chee
 r on Saturday\,  December 10 from 2:00 PM to 5:00 PM EST. You are invited t
 o our in-person 21st Annual Holiday Open House/Dysphonia International Fund
 raiser. Lunch and desserts will be served. Door prizes will be given out. F
 amily and friends of[..]\nhttps://dysphonia.org/events/in-person-holiday-op
 en-house-hosted-by-the-charlotte-dysphonia-support-group/
URL:https://dysphonia.org/events/in-person-holiday-open-house-hosted-by-the-charlotte-dysphonia-support-group/
END:VEVENT
END:VCALENDAR