BEGIN:VCALENDAR
VERSION:2.0
PRODID:-//eventon.com NONSGML v1.0//EN
CALSCALE:GREGORIAN
METHOD:PUBLISH
BEGIN:VEVENT
UID:69ea69e0a2844
DTSTAMP:20260423T185008Z
DTSTART:20221022T130000Z
DTEND:20221022T150000Z
LOCATION:North Park Boathouse\,  10301 Pearce Mill Rd\,  Allison Park\,  PA 15101
SUMMARY:3rd Annual Walk for Talk | Hosted by the Greater Pittsburgh Dysphonia Support Group
DESCRIPTION:3rd Annual Walk for Talk | Hosted by the Greater Pittsburgh Dys
 phonia Support Group WHEN | Saturday\,  October 22\,  2022TIME | 9:00 AM &
 #8211; 11:00 AM ESTLOCATION | North Park\,  Boathouse Main Parking Lot loca
 ted at 10301 Pearce Mill Road\,  Allison Park\,  PA 15101 This year\,  the 
 Pittsburgh Voice Team (University[..]\nhttps://dysphonia.org/events/save-th
 e-date-3rd-annual-walk-for-talk-hosted-by-the-pittsburgh-dysphonia-support-
 group/
URL:https://dysphonia.org/events/save-the-date-3rd-annual-walk-for-talk-hosted-by-the-pittsburgh-dysphonia-support-group/
END:VEVENT
END:VCALENDAR