BEGIN:VCALENDAR
VERSION:2.0
PRODID:-//eventon.com NONSGML v1.0//EN
CALSCALE:GREGORIAN
METHOD:PUBLISH
BEGIN:VEVENT
UID:69e954ca3e7f9
DTSTAMP:20260422T230754Z
DTSTART:20221022T170000Z
DTEND:20221023T065000Z
LOCATION:Mercado Del Lago Mall 8300 N. Hayden Road
SUMMARY:3rd Annual Walk for Talk | Hosted by the Valley of the Sun Dysphonia Support Group
DESCRIPTION:3rd Annual Walk for Talk | Hosted by the Valley of the Sun Dysp
 honia Support Group WHEN | Saturday\,  October 22\,  2022TIME | 10:00 AM &
 #8211; 11:30 AM AZLOCATION | Mercado Del Lago Mall South of McCormick Lake 
 | 8300 N. Hayden | Scottsdale\,  AZ 33704 | Map It The Valley[..]\nhttps://
 dysphonia.org/events/save-the-date-3rd-annual-walk-for-talk-hosted-by-the-v
 alley-of-the-sun-dysphonia-support-group/
URL:https://dysphonia.org/events/save-the-date-3rd-annual-walk-for-talk-hosted-by-the-valley-of-the-sun-dysphonia-support-group/
END:VEVENT
END:VCALENDAR