BEGIN:VCALENDAR
VERSION:2.0
PRODID:-//eventon.com NONSGML v1.0//EN
CALSCALE:GREGORIAN
METHOD:PUBLISH
BEGIN:VEVENT
UID:69e9ab68b0d55
DTSTAMP:20260423T051728Z
DTSTART:20221022T140000Z
DTEND:20221023T035000Z
LOCATION:Flora Wylie Park
SUMMARY:3rd Annual Walk for Talk | Hosted by the Tampa Bay Dysphonia Support Group
DESCRIPTION:3rd Annual Walk for Talk | Hosted by the Tampa Bay Dysphonia Su
 pport Group WHEN | Saturday\,  October 22\,  2022TIME |&nbsp;10:00 AM ESTLO
 CATION | Flora Wylie Park | 1400 N Shore Dr NE | St Petersburg\,  FL 33704 
 | Map It The Tampa Bay Dysphonia Support Group&nbsp; invites you to[..]\nht
 tps://dysphonia.org/events/save-the-date-3rd-annual-walk-for-talk-hosted-by
 -the-tampa-bay-dysphonia-support-group/
URL:https://dysphonia.org/events/save-the-date-3rd-annual-walk-for-talk-hosted-by-the-tampa-bay-dysphonia-support-group/
END:VEVENT
END:VCALENDAR