BEGIN:VCALENDAR
VERSION:2.0
PRODID:-//eventon.com NONSGML v1.0//EN
CALSCALE:GREGORIAN
METHOD:PUBLISH
BEGIN:VEVENT
UID:69e74004bfc16
DTSTAMP:20260421T091444Z
DTSTART:20220716T170000Z
DTEND:20220717T065000Z
LOCATION:Online | Zoom
SUMMARY:Virtual Meeting | Hosted by the Valley of the Sun Dysphonia Support Group
DESCRIPTION:*REGISTER HERE* The Valley of the Sun Dysphonia Support Group w
 ill have a virtual meeting on Saturday\,  July 16 at 10:00 AM AZ.WHEN | Sat
 urday\, &nbsp; July 16\,  2022TIME(S):10:00 AM &#8211; 11:00 AM AZ11:00 AM 
 &#8211; 12:00 PM MT12:00 PM &#8211; 1:00 PM CT1:00 PM &#8211; 2:00 PM ETREG
 ISTER HERE We[..]\nhttps://dysphonia.org/events/virtual-meeting-hosted-by-t
 he-valley-of-the-sun-dysphonia-support-group/
URL:https://dysphonia.org/events/virtual-meeting-hosted-by-the-valley-of-the-sun-dysphonia-support-group/
END:VEVENT
END:VCALENDAR