BEGIN:VCALENDAR
VERSION:2.0
PRODID:-//eventon.com NONSGML v1.0//EN
CALSCALE:GREGORIAN
METHOD:PUBLISH
BEGIN:VEVENT
UID:69e7500606b1e
DTSTAMP:20260421T102302Z
DTSTART:20220611T140000Z
DTEND:20220612T035000Z
LOCATION:Online | Zoom
SUMMARY:Virtual Meeting | Hosted by the North Carolina Dysphonia Support Groups
DESCRIPTION:Register HERE Join the North Carolina Dysphonia Support Groups 
 for a virtual meeting on Saturday\,  June 11 at 10:00 AM EST. Since the gat
 hering is virtual\,  we have expanded our reach to include surrounding area
 s. All are welcome to attend no matter your location! TOPIC: Helping Others
  with Vocal Dysphonia:[..]\nhttps://dysphonia.org/events/virtual-meeting-ho
 sted-by-the-nsda-north-carolina-support-groups-7/
URL:https://dysphonia.org/events/virtual-meeting-hosted-by-the-nsda-north-carolina-support-groups-7/
END:VEVENT
END:VCALENDAR