BEGIN:VCALENDAR
VERSION:2.0
PRODID:-//eventon.com NONSGML v1.0//EN
CALSCALE:GREGORIAN
METHOD:PUBLISH
BEGIN:VEVENT
UID:69eb0d0c476fd
DTSTAMP:20260424T062620Z
DTSTART:20220122T150000Z
DTEND:20220123T045000Z
LOCATION:https://us02web.zoom.us/meeting/register/tZYqc-qrqTgtGN3Xu-vHuSbxd3QazKF-xQBw
SUMMARY:Virtual Meeting | Hosted by the NSDA Tampa Bay Support Group
DESCRIPTION:Register HERE Please mark your calendars for the next virtual s
 upport group meeting hosted by the NSDA Tampa Area Spasmodic Dysphonia Supp
 ort Group on Saturday\,  January 22\,  2022 at 10:00 AM EST. Our guest spea
 ker will be Dr. Yael Bensoussan\,  MD MSc FRCSC (pictured right). Dr. Benso
 ussan is Assistant Professor[..]\nhttps://dysphonia.org/events/virtual-meet
 ing-hosted-by-the-nsda-tampa-bay-support-group/var/event_access
URL:https://dysphonia.org/events/virtual-meeting-hosted-by-the-nsda-tampa-bay-support-group/var/event_access
END:VEVENT
END:VCALENDAR