BEGIN:VCALENDAR
VERSION:2.0
PRODID:-//eventon.com NONSGML v1.0//EN
CALSCALE:GREGORIAN
METHOD:PUBLISH
BEGIN:VEVENT
UID:69ec2b6660de0
DTSTAMP:20260425T024806Z
DTSTART:20211009T170000Z
DTEND:20211010T065000Z
LOCATION:Kensington Metro Park 4570 Huron River Pkwy Milford\,  MI 48380
SUMMARY:In-Person Walk | Milford\,  MI Area
DESCRIPTION:Voices of Michigan Walk for Talk EventWHEN | Saturday\,  Octob
 er 9\,  2021TIME | 10 AM to Noon ETLOCATION | Kensington Metro Park 4570 Hu
 ron River Pkwy Milford\,  MI 48380 Map itRSVP | Dennis Kaszeta denniskasz
 eta@yahoo.com (248) 240-2693 OR Anjli Lodhavia alodhav1@hfhs.org The Greate
 r Detroit Spasmodic Dysphonia Support Group invites you to be part[..]\nhtt
 ps://dysphonia.org/events/in-person-walk-milford-mi-area/
URL:https://dysphonia.org/events/in-person-walk-milford-mi-area/
END:VEVENT
END:VCALENDAR