BEGIN:VCALENDAR
VERSION:2.0
PRODID:-//eventon.com NONSGML v1.0//EN
CALSCALE:GREGORIAN
METHOD:PUBLISH
BEGIN:VEVENT
UID:69e73f495174b
DTSTAMP:20260421T091137Z
DTSTART:20210724T140000Z
DTEND:20210725T035000Z
LOCATION:https://us02web.zoom.us/meeting/register/tZUsd-yurTktGdQeZdFj3jgri80pS2zxe_1T
SUMMARY:Hybrid | NSDA Charlottesville\,  Virginia Spasmodic Dysphonia Support Group Meeting
DESCRIPTION:You are invited to a meeting hosted by the NSDA Charlottesville
 \,  Virginia Support Group for people with spasmodic dysphonia and other re
 lated voice conditions that will take place on Saturday\,  July 24\,  2021a
 t 10 AM Eastern Time. This will be a meet-and-greet &#8220;hybrid&#8221; me
 eting to reconnect with those in the[..]\nhttps://dysphonia.org/events/virt
 ual-joint-meeting-of-the-virginia-and-dc-area-spasmodic-dysphonia-support-g
 roups/var/event_access
URL:https://dysphonia.org/events/virtual-joint-meeting-of-the-virginia-and-dc-area-spasmodic-dysphonia-support-groups/var/event_access
END:VEVENT
END:VCALENDAR