BEGIN:VCALENDAR
VERSION:2.0
PRODID:-//eventon.com NONSGML v1.0//EN
CALSCALE:GREGORIAN
METHOD:PUBLISH
BEGIN:VEVENT
UID:69e4d0ff14850
DTSTAMP:20260419T125631Z
DTSTART:20210522T140000Z
DTEND:20210523T035000Z
LOCATION:https://us02web.zoom.us/meeting/register/tZIqce6qqjksHNw2geSVDTQ71gm7RndwvVJn
SUMMARY:Virtual Support Meeting | Hosted by the NSDA North Carolina Support Groups
DESCRIPTION:REGISTER HERE You are invited to our next virtual meeting hoste
 d by the NSDA North Carolina Spasmodic Dysphonia Support Groups on Saturday
 \,  May 22\,  2021 at 10am Eastern Time. We are pleased to announce that Ma
 rcia Sterling (pictured right) will be our guest speaker for this event. Ma
 rcia Sterling is[..]\nhttps://dysphonia.org/events/virtual-support-meeting-
 hosted-by-the-nsda-north-carolina-support-groups-2/var/event_access
URL:https://dysphonia.org/events/virtual-support-meeting-hosted-by-the-nsda-north-carolina-support-groups-2/var/event_access
END:VEVENT
END:VCALENDAR