BEGIN:VCALENDAR
VERSION:2.0
PRODID:-//eventon.com NONSGML v1.0//EN
CALSCALE:GREGORIAN
METHOD:PUBLISH
BEGIN:VEVENT
UID:69e9adbf31810
DTSTAMP:20260423T052727Z
DTSTART:20210428T230000Z
DTEND:20210429T035000Z
LOCATION:https://us02web.zoom.us/meeting/register/tZcufu2hqD0jHtzX_Wo2_K5tqkQSA8hYmj0f
SUMMARY:Virtual Support Meeting | Hosted by the NSDA Greater Columbus Area Support Group
DESCRIPTION:*REGISTER HERE* Please join the Greater Columbus Area Support G
 roup for their next interactive meeting on April 28\,  2021\,  at 7 PM East
 ern Time. We will begin with a presentation from Charlie Reavis\,  NSDA pre
 sident\,  on some exciting changes for our organization. We will then invit
 e participants to provide tips[..]\nhttps://dysphonia.org/events/virtual-gr
 eater-columbus-area-spasmodic-dysphonia-support-group-2/var/event_access
URL:https://dysphonia.org/events/virtual-greater-columbus-area-spasmodic-dysphonia-support-group-2/var/event_access
END:VEVENT
END:VCALENDAR